Workbook

Sheet 様式第３号（第７条関係）【実績報告書】
A1: 別記様式第３号（第７条関係）
C4: 病院群輪番制病院運営事業実績報告書
K6: 年 | M6: 月 | O6: 日
B8: 宇 治 市 長 様
H10: 病院所在地
H12: 名 称
H14: 代表者名 | O14: 印
B16: 病院群輪番制病院運営事業補助金交付要綱第７条の規定に基づき、事業の実績を
B18: 次のとおり報告します。
B21: 月 | C21: ４ | D21: ５ | E21: ６ | F21: ７ | G21: ８ | H21: ９ | I21: １０ | J21: １１ | K21: １２ | L21: １ | M21: ２ | N21: ３ | O21: 計
A24: 事 | B24: 当
B26: 番
A27: 業
B28: 担
A30: 計 | B30: 当
B32: 日
A33: 画
B35: 計 | C35: =COUNTA(C22:C34) -> 0 | D35: =COUNTA(D22:D34) -> 0 | E35: =COUNTA(E22:E34) -> 0 | F35: =COUNTA(F22:F34) -> 0 | G35: =COUNTA(G22:G34) -> 0 | H35: =COUNTA(H22:H34) -> 0 | I35: =COUNTA(I22:I34) -> 0 | J35: =COUNTA(J22:J34) -> 0 | ... N35: =COUNTA(N22:N34) -> 0 | O35: =SUM(C35:N36) -> 0
B39: ※ 今回の補助金交付額 | N39: 円
B41: ※ 交付済補助金額 | N41: 円
B43: ※ 今年度補助金交付総額 | N43: 円
A46: 注１ | B46: 同一日の昼間と夜間の当番を担当するときは、その日を２回記入してください。
A47: ２ | B47: 夜間の当番担当日については、（ ）を付して記入してください。
A48: ３ | B48: ※印の欄には、記入しないでください。

Sheet 実績額明細書
A2: 病院群輪番制病院運営事業予定所要額明細書
K4: ( | L4: ='様式第３号（第７条関係）【実績報告書】'!J12 -> 0 | P4: ）
A5: 区 分 | E5: 総 額 | H5: 対象経費の 実支出額 | K5: 備 考
G7: 円 | J7: 円 | K7: 当番日数 | M7: ='様式第３号（第７条関係）【実績報告書】'!O35 -> 0 | O7: 日
A8: 給 与 費
A9: １ 常勤職員給与
A11: （１） 医師 | H11: =(K11*M11*O11)+(K12*M12*O12)+(K13*M13*O13)+(K14*M14*O14)+(K15*M15*O15)+(K16*M16*O16) -> 0 | L11: 円× | N11: 人× | P11: 日
L12: 円× | N12: 人× | P12: 日
L13: 円× | N13: 人× | P13: 日
L14: 円× | N14: 人× | P14: 日
L15: 円× | N15: 人× | P15: 日
L16: 円× | N16: 人× | P16: 日
A18: （２） 看護師 | H18: =(K18*M18*O18)+(K19*M19*O19)+(K20*M20*O20)+(K21*M21*O21)+(K22*M22*O22)+(K23*M23*O23) -> 0 | L18: 円× | N18: 人× | P18: 日
L19: 円× | N19: 人× | P19: 日
L20: 円× | N20: 人× | P20: 日
L21: 円× | N21: 人× | P21: 日
L22: 円× | N22: 人× | P22: 日
L23: 円× | N23: 人× | P23: 日
A25: （３） 医療技術員 | H25: =(K25*M25*O25)+(K26*M26*O26)+(K27*M27*O27)+(K28*M28*O28)+(K29*M29*O29)+(K30*M30*O30)+(K31*M31*O31)+(K32*M32*O32)+(K34*M34*O34)+(K33*M33*O33) -> 0 | L25: 円× | N25: 人× | P25: 日
L26: 円× | N26: 人× | P26: 日
L27: 円× | N27: 人× | P27: 日
L28: 円× | N28: 人× | P28: 日
L29: 円× | N29: 人× | P29: 日
L30: 円× | N30: 人× | P30: 日
L31: 円× | N31: 人× | P31: 日
L32: 円× | N32: 人× | P32: 日
L33: 円× | N33: 人× | P33: 日
L34: 円× | N34: 人× | P34: 日
A36: （３） その他 | H36: =(K36*M36*O36)+(K37*M37*O37)+(K38*M38*O38) -> 0 | L36: 円× | N36: 人× | P36: 日
L37: 円× | N37: 人× | P37: 日
L38: 円× | N38: 人× | P38: 日
A40: ２ 非常勤職員給与
A42: （１） 医師 | H42: =(K42*M42*O42)+(K43*M43*O43)+(K44*M44*O44) -> 0 | L42: 円× | N42: 人× | P42: 日
L43: 円× | N43: 人× | P43: 日
L44: 円× | N44: 人× | P44: 日
A46: （２） 看護師 | H46: =(K46*M46*O46)+(K47*M47*O47)+(K48*M48*O48) -> 0 | L46: 円× | N46: 人× | P46: 日
L47: 円× | N47: 人× | P47: 日
L48: 円× | N48: 人× | P48: 日
A50: （３） 医療技術員 | H50: =(K50*M50*O50)+(K51*M51*O51)+(K52*M52*O52) -> 0 | L50: 円× | N50: 人× | P50: 日
L51: 円× | N51: 人× | P51: 日
...

Sheet 患者数等調
A3: 病院群輪番制病院診療科目別患者数等調
A5: １ 患者数等（人） | O5: (病院名 | P5: ='様式第３号（第７条関係）【実績報告書】'!J12 -> 0 | Y5: )
A6: 区 分 | E6: 計 | G6: 内科 | I6: 外科 | K6: 小児科 | M6: 科 | O6: 科 | Q6: 科 | S6: 科 | U6: 備 考
C8: 入院 | E8: =SUM(G8:T9) -> 0 | G8: =COUNTIFS(患者受入状況報告書!$C:$C,$G$6,患者受入状況報告書!$D:$D,C8) -> 0 | I8: =COUNTIFS(患者受入状況報告書!$C:$C,$I$6,患者受入状況報告書!$D:$D,C8) -> 0 | K8: =COUNTIFS(患者受入状況報告書!$C:$C,$K$6,患者受入状況報告書!$D:$D,C8) -> 0 | M8: 0
C10: 外来 | E10: =SUM(G10:T11) -> 0 | G10: =COUNTIFS(患者受入状況報告書!$C:$C,$G$6,患者受入状況報告書!$D:$D,C10) -> 0 | I10: =COUNTIFS(患者受入状況報告書!$C:$C,$I$6,患者受入状況報告書!$D:$D,C10) -> 0 | K10: =COUNTIFS(患者受入状況報告書!$C:$C,$K$6,患者受入状況報告書!$D:$D,C10) -> 0
C12: 計 | E12: =SUM(E8:F11) -> 0 | G12: =SUM(G8:H11) -> 0 | I12: =SUM(I8:J11) -> 0 | K12: =SUM(K8:L11) -> 0 | M12: =SUM(M8:N11) -> 0 | O12: =SUM(O8:P11) -> 0 | Q12: =SUM(Q8:R11) -> 0 | S12: =SUM(S8:T11) -> 0
A14: １ 日 （当番日） 平均 | C14: 入院 | E14: =SUM(G14:T15) -> 0 | G14: =IF(E21=0,0,G8/E21) -> 0 | I14: =IF(E21=0,0,I8/E21) -> 0 | K14: =IF(E21=0,0,K8/E21) -> 0 | M14: =IF(E21=0,0,M8/E21) -> 0 | O14: =IF(E21=0,0,O8/E21) -> 0 | Q14: =IF(E21=0,0,Q8/E21) -> 0 | S14: =IF(E21=0,0,S8/E21) -> 0
C16: 外来 | E16: =SUM(G16:T17) -> 0 | G16: =IF(E21=0,0,G10/E21) -> 0 | I16: =IF(E21=0,0,I10/E21) -> 0 | K16: =IF(E21=0,0,K10/E21) -> 0 | M16: =IF(E21=0,0,M10/E21) -> 0 | O16: =IF(E21=0,0,O10/E21) -> 0 | Q16: =IF(E21=0,0,Q10/E21) -> 0 | S16: =IF(E21=0,0,S10/E21) -> 0
C18: 計 | E18: =SUM(E14:F17) -> 0 | G18: =SUM(G14:H17) -> 0 | I18: =SUM(I14:J17) -> 0 | K18: =SUM(K14:L17) -> 0 | M18: =SUM(M14:N17) -> 0 | O18: =SUM(O14:P17) -> 0 | Q18: =SUM(Q14:R17) -> 0 | S18: =SUM(S14:T17) -> 0
A20: 実 診 療 (当番日)日数 | F20: 日
E21: ='様式第３号（第７条関係）【実績報告書】'!O35 -> 0
A24: ２ 職員数（人）
A26: 職員数 | E26: 病院職員総数 | I26: 1日あたり従事者数 | Q26: 備 考
A27: 職種別 | I27: 常 勤 | M27: オンコール
A28: 医 師
A30: 看護師 | M30: 0
A32: その他の医療技術者
A34: うち 放射線技師 | M34: 0
A36: 検査技師
A38: 薬剤師
A40: 事務職員等 | M40: 0
A42: 計 | E42: =E28+E30+E32+E40 -> 0 | I42: =I28+I30+I32+I40 -> 0 | M42: =M28+M30+M32+M40 -> 0
A45: ３ 取扱患者の来院方法別内訳（人）
A46: 区分 | D46: 初期救急医療施設から転送 | M46: そ の 他 | V46: 計
D47: 救急車 | G47: その他 | J47: 計 | M47: 救急車 | P47: その他 | S47: 計
A48: 入 院 | D48: =COUNTIFS(患者受入状況報告書!$D:$D,"入院",患者受入状況報告書!$E:$E,D$47,患者受入状況報告書!$L:$L,"*初期救急医療*転送*") -> 0 | F48: 人 | G48: =COUNTIFS(患者受入状況報告書!$D:$D,"入院",患者受入状況報告書!$E:$E,G$47,患者受入状況報告書!$L:$L,"*初期救急医療*転送*") -> 0 | I48: 人 | J48: =D48+G48 -> 0 | L48: 人 | M48: =COUNTIFS(患者受入状況報告書!$D:$D,"入院",患者受入状況報告書!$E:$E,M$47,患者受入状況報告書!$L:$L,"その他") -> 0 | O48: 人 | P48: =COUNTIFS(患者受入状況報告書!$D:$D,"入院",患者受入状況報告書!$E:$E,P$47,患者受入状況報告書!$L:$L,"その他") -> 0 | R48: 人 | S48: =M48+P48 -> 0 | U48: 人 | V48: =J48+S48 -> 0 | Y48: 人
A50: 外 来 | D50: =COUNTIFS(患者受入状況報告書!$D:$D,"外来",患者受入状況報告書!$E:$E,D$47,患者受入状況報告書!$L:$L,"*初期救急医療*転送*") -> 0 | G50: =COUNTIFS(患者受入状況報告書!$D:$D,"外来",患者受入状況報告書!$E:$E,G$47,患者受入状況報告書!$L:$L,"*初期救急医療*転送*") -> 0 | J50: =D50+G50 -> 0 | M50: =COUNTIFS(患者受入状況報告書!$D:$D,"外来",患者受入状況報告書!$E:$E,M$47,患者受入状況報告書!$L:$L,"その他") -> 0 | P50: =COUNTIFS(患者受入状況報告書!$D:$D,"外来",患者受入状況報告書!$E:$E,P$47,患者受入状況報告書!$L:$L,"その他") -> 0 | S50: =M50+P50 -> 0 | V50: =J50+S50 -> 0
A52: 計 | D52: =D48+D50 -> 0 | G52: =G48+G50 -> 0 | J52: =D52+G52 -> 0 | M52: =M48+M50 -> 0 | P52: =P48+P50 -> 0 | S52: =M52+P52 -> 0 | V52: =J52+S52 -> 0

Sheet 患者受入状況報告書
M1: 救急車 | N1: 内科 | O1: 宇治 | P1: AM | Q1: 男 | R1: 昼 | S1: 入院 | T1: 初期救急医療からの転送
A2: 病院群輪番制病院運営事業患者受入状況報告書 | M2: その他 | N2: 小児科 | O2: 久御山 | P2: PM | Q2: 女 | R2: 夜 | S2: 外来 | T2: その他
N3: 外科 | O3: 城陽
N4: その他 | O4: 井手
A5: 令和 年 月 | O5: 八幡
H6: 病院名 | I6: ='様式第３号（第７条関係）【実績報告書】'!J12 -> 0 | O6: 宇治田原
O7: 京田辺
A8: 月日 | B8: 昼・夜別 | C8: 診療区分 | D8: 入院・外来 | E8: 来院方法 | F8: 性 別 | G8: 年 齢 | H8: 住 所 | I8: 来院時間 | K8: 備考 （住所がその他の場合、 住所を記載） | L8: 初期救急医療からの転送・その他 | O8: その他

Sheet 実績報告書
W1: 前期 | X1: 後期 | Z1: 宇治 | AJ1: 城陽
G2: 病院群輪番制病院運営事業患者受入状況実績報告書 | Z2: {=_xlfn._xlws.FILTER(患者受入状況報告書!A8:J393,患者受入状況報告書!H8:H393="宇治")} -> #VALUE! | AJ2: {=_xlfn._xlws.FILTER(患者受入状況報告書!A8:J393,患者受入状況報告書!H8:H393="城陽")} -> #VALUE! | AT2: {=_xlfn._xlws.FILTER(患者受入状況報告書!A8:J393,患者受入状況報告書!H8:H393="八幡")} -> #VALUE! | BD2: {=_xlfn._xlws.FILTER(患者受入状況報告書!A8:J393,患者受入状況報告書!H8:H393="京田辺")} -> #VALUE! | BN2: {=_xlfn._xlws.FILTER(患者受入状況報告書!A8:J393,患者受入状況報告書!H8:H393="久御山")} -> #VALUE! | BX2: {=_xlfn._xlws.FILTER(患者受入状況報告書!A8:J393,患者受入状況報告書!H8:H393="井手")} -> #VALUE! | CH2: {=_xlfn._xlws.FILTER(患者受入状況報告書!A8:J393,患者受入状況報告書!H8:H393="宇治田原")} -> #VALUE! | CR2: {=_xlfn._xlws.FILTER(患者受入状況報告書!A8:J393,患者受入状況報告書!H8:H393="その他")} -> #VALUE!
A4: 令和 | C4: 年度 | D4: （ | F4: ） | Q4: 病院名 | R4: ='様式第３号（第７条関係）【実績報告書】'!J12 -> 0
A8: 市町区分 | C8: 当番担当回数 | F8: 入院・外来別 | I8: 来院方法別 | L8: 性別 | O8: 診療科目別 | T8: 備考
C9: 昼間 | D9: 夜間 | E9: 計 | F9: 入院 | G9: 外来 | H9: 計 | I9: 救急車 | J9: その他 | K9: 計 | L9: 男 | M9: 女 | N9: 計 | O9: 内科 | P9: 外科 | Q9: 小児科 | R9: その他 | S9: 計
A10: 宇治市 | C10: =COUNTIF(AA2:AA200,"昼") -> 0 | D10: =COUNTIF(AA2:AA200,"夜") -> 0 | E10: =SUM(C10:D10) -> 0 | F10: =COUNTIF(AC2:AC200,"入院") -> 0 | G10: =COUNTIF(AC2:AC200,"外来") -> 0 | H10: =SUM(F10:G10) -> 0 | I10: =COUNTIF(AD2:AD200,"救急車") -> 0 | J10: =COUNTIF(AD2:AD200,"その他") -> 0 | K10: =SUM(I10:J10) -> 0 | L10: =COUNTIF(AE2:AE200,"男") -> 0 | M10: =COUNTIF(AE2:AE200,"女") -> 0 | N10: =SUM(L10:M10) -> 0 | O10: =COUNTIF(AB2:AB200,"内科") -> 0 | P10: =COUNTIF(AB2:AB200,"外科") -> 0 | Q10: =COUNTIF(AB2:AB200,"小児科") -> 0 | R10: =COUNTIF(AB2:AB200,"その他") -> 0 | S10: =SUM(O10:R10) -> 0
A11: 城陽市 | C11: =COUNTIF(AK2:AK200,"昼") -> 0 | D11: =COUNTIF(AK2:AK200,"夜") -> 0 | E11: =SUM(C11:D11) -> 0 | F11: =COUNTIF(AM2:AM200,"入院") -> 0 | G11: =COUNTIF(AM2:AM200,"外来") -> 0 | H11: =SUM(F11:G11) -> 0 | I11: =COUNTIF(AN2:AN200,"救急車") -> 0 | J11: =COUNTIF(AN2:AN200,"その他") -> 0 | K11: =SUM(I11:J11) -> 0 | L11: =COUNTIF(AO2:AO200,"男") -> 0 | M11: =COUNTIF(AO2:AO200,"女") -> 0 | N11: =SUM(L11:M11) -> 0 | O11: =COUNTIF(AL2:AL200,"内科") -> 0 | P11: =COUNTIF(AL2:AL200,"外科") -> 0 | Q11: =COUNTIF(AL2:AL200,"小児科") -> 0 | R11: =COUNTIF(AL2:AL200,"その他") -> 0 | S11: =SUM(O11:R11) -> 0
A12: 八幡市 | C12: =COUNTIF(AU2:AU200,"昼") -> 0 | D12: =COUNTIF(AU2:AU200,"夜") -> 0 | E12: =SUM(C12:D12) -> 0 | F12: =COUNTIF(AW2:AW200,"入院") -> 0 | G12: =COUNTIF(AW2:AW200,"外来") -> 0 | H12: =SUM(F12:G12) -> 0 | I12: =COUNTIF(AX2:AX200,"救急車") -> 0 | J12: =COUNTIF(AX2:AX200,"その他") -> 0 | K12: =SUM(I12:J12) -> 0 | L12: =COUNTIF(AY2:AY200,"男") -> 0 | M12: =COUNTIF(AY2:AY200,"女") -> 0 | N12: =SUM(L12:M12) -> 0 | O12: =COUNTIF(AV2:AV200,"内科") -> 0 | P12: =COUNTIF(AV2:AV200,"外科") -> 0 | Q12: =COUNTIF(AV2:AV200,"小児科") -> 0 | R12: =COUNTIF(AV2:AV200,"その他") -> 0 | S12: =SUM(O12:R12) -> 0
A13: 京田辺市 | C13: =COUNTIF(BE2:BE200,"昼") -> 0 | D13: =COUNTIF(BE2:BE200,"夜") -> 0 | E13: =SUM(C13:D13) -> 0 | F13: =COUNTIF(BG2:BG200,"入院") -> 0 | G13: =COUNTIF(BG2:BG200,"外来") -> 0 | H13: =SUM(F13:G13) -> 0 | I13: =COUNTIF(BH2:BH200,"救急車") -> 0 | J13: =COUNTIF(BH2:BH200,"その他") -> 0 | K13: =SUM(I13:J13) -> 0 | L13: =COUNTIF(BI2:BI200,"男") -> 0 | M13: =COUNTIF(BI2:BI200,"女") -> 0 | N13: =SUM(L13:M13) -> 0 | O13: =COUNTIF(BF2:BF200,"内科") -> 0 | P13: =COUNTIF(BF2:BF200,"外科") -> 0 | Q13: =COUNTIF(BF2:BF200,"小児科") -> 0 | R13: =COUNTIF(BF2:BF200,"その他") -> 0 | S13: =SUM(O13:R13) -> 0
A14: 久御山町 | C14: =COUNTIF(BO2:BO200,"昼") -> 0 | D14: =COUNTIF(BO2:BO202,"夜") -> 0 | E14: =SUM(C14:D14) -> 0 | F14: =COUNTIF(BQ2:BQ200,"入院") -> 0 | G14: =COUNTIF(BQ2:BQ200,"外来") -> 0 | H14: =SUM(F14:G14) -> 0 | I14: =COUNTIF(BR2:BR200,"救急車") -> 0 | J14: =COUNTIF(BR2:BR200,"その他") -> 0 | K14: =SUM(I14:J14) -> 0 | L14: =COUNTIF(BS2:BS200,"男") -> 0 | M14: =COUNTIF(BS2:BS200,"女") -> 0 | N14: =SUM(L14:M14) -> 0 | O14: =COUNTIF(BP2:BP200,"内科") -> 0 | P14: =COUNTIF(BP2:BP200,"外科") -> 0 | Q14: =COUNTIF(BP2:BP200,"小児科") -> 0 | R14: =COUNTIF(BP2:BP200,"その他") -> 0 | S14: =SUM(O14:R14) -> 0
A15: 井手町 | C15: =COUNTIF(BY2:BY200,"昼") -> 0 | D15: =COUNTIF(BY2:BY200,"夜") -> 0 | E15: =SUM(C15:D15) -> 0 | F15: =COUNTIF(CA2:CA200,"入院") -> 0 | G15: =COUNTIF(CA2:CA200,"外来") -> 0 | H15: =SUM(F15:G15) -> 0 | I15: =COUNTIF(CB2:CB200,"救急車") -> 0 | J15: =COUNTIF(CB2:CB200,"その他") -> 0 | K15: =SUM(I15:J15) -> 0 | L15: =COUNTIF(CC2:CC200,"男") -> 0 | M15: =COUNTIF(CC2:CC200,"女") -> 0 | N15: =SUM(L15:M15) -> 0 | O15: =COUNTIF(BZ2:BZ200,"内科") -> 0 | P15: =COUNTIF(BZ2:BZ200,"外科") -> 0 | Q15: =COUNTIF(BZ2:BZ200,"小児科") -> 0 | R15: =COUNTIF(BZ2:BZ200,"その他") -> 0 | S15: =SUM(O15:R15) -> 0
A16: 宇治田原町 | C16: =COUNTIF(CI2:CI200,"昼") -> 0 | D16: =COUNTIF(CI2:CI200,"夜") -> 0 | E16: =SUM(C16:D16) -> 0 | F16: =COUNTIF(CK2:CK200,"入院") -> 0 | G16: =COUNTIF(CK2:CK200,"外来") -> 0 | H16: =SUM(F16:G16) -> 0 | I16: =COUNTIF(CL2:CL200,"救急車") -> 0 | J16: =COUNTIF(CL2:CL200,"その他") -> 0 | K16: =SUM(I16:J16) -> 0 | L16: =COUNTIF(CM2:CM200,"男") -> 0 | M16: =COUNTIF(CM2:CM200,"女") -> 0 | N16: =SUM(L16:M16) -> 0 | O16: =COUNTIF(CJ2:CJ200,"内科") -> 0 | P16: =COUNTIF(CJ2:CJ200,"外科") -> 0 | Q16: =COUNTIF(CJ2:CJ200,"小児科") -> 0 | R16: =COUNTIF(CJ2:CJ200,"その他") -> 0 | S16: =SUM(O16:R16) -> 0
A17: 合計 | C17: =SUM(C10:C16) -> 0 | D17: =SUM(D10:D16) -> 0 | E17: =SUM(E10:E16) -> 0 | F17: =SUM(F10:F16) -> 0 | G17: =SUM(G10:G16) -> 0 | H17: =SUM(H10:H16) -> 0 | I17: =SUM(I10:I16) -> 0 | J17: =SUM(J10:J16) -> 0 | ... S17: =SUM(S10:S16) -> 0
A18: その他 | C18: =COUNTIF(CS2:CS200,"昼") -> 0 | D18: =COUNTIF(CS2:CS200,"夜") -> 0 | E18: =SUM(C18:D18) -> 0 | F18: =COUNTIF(CU2:CU200,"入院") -> 0 | G18: =COUNTIF(CU2:CU200,"外来") -> 0 | H18: =SUM(F18:G18) -> 0 | I18: =COUNTIF(CV2:CV200,"救急車") -> 0 | J18: =COUNTIF(CV2:CV200,"その他") -> 0 | K18: =SUM(I18:J18) -> 0 | L18: =COUNTIF(CW2:CW200,"男") -> 0 | M18: =COUNTIF(CW2:CW200,"女") -> 0 | N18: =SUM(L18:M18) -> 0 | O18: =COUNTIF(CT2:CT200,"内科") -> 0 | P18: =COUNTIF(CT2:CT200,"外科") -> 0 | Q18: =COUNTIF(CT2:CT200,"小児科") -> 0 | R18: =COUNTIF(CT2:CT200,"その他") -> 0 | S18: =SUM(O18:R18) -> 0
A19: 総合計 | C19: =SUM(C17:C18) -> 0 | D19: =SUM(D17:D18) -> 0 | E19: =SUM(E17:E18) -> 0 | F19: =SUM(F17:F18) -> 0 | G19: =SUM(G17:G18) -> 0 | H19: =SUM(H17:H18) -> 0 | I19: =SUM(I17:I18) -> 0 | J19: =SUM(J17:J18) -> 0 | ... S19: =SUM(S17:S18) -> 0

Sheet 請求書
A1: 別記様式５号（第９条関係）
E6: 病院群輪番制病院運営事業補助金交付請求書
K11: 年 | M11: 月 | O11: 日
B15: 宇 治 市 長 様
H20: 請求者
I21: 住所 | K21: ='様式第３号（第７条関係）【実績報告書】'!J10 -> 0
K22: ='様式第３号（第７条関係）【実績報告書】'!J11 -> 0
I23: 団体名 | K23: ='様式第３号（第７条関係）【実績報告書】'!J12 -> 0
I25: 代表者名 | K25: ='様式第３号（第７条関係）【実績報告書】'!J14 -> 0 | O25: 印
B30: 病院群輪番制病院運営事業補助金交付要綱第９条の規定に基づき、補助金を
B32: 次のとおり請求します。
E40: 請求金額 | K40: 円
